BEGIN:VCALENDAR
VERSION:2.0
PRODID:-//Aschaa - ECPv6.9.0//NONSGML v1.0//EN
CALSCALE:GREGORIAN
METHOD:PUBLISH
X-ORIGINAL-URL:https://aschaa.at
X-WR-CALDESC:Veranstaltungen für Aschaa
REFRESH-INTERVAL;VALUE=DURATION:PT1H
X-Robots-Tag:noindex
X-PUBLISHED-TTL:PT1H
BEGIN:VTIMEZONE
TZID:Europe/Berlin
BEGIN:DAYLIGHT
TZOFFSETFROM:+0100
TZOFFSETTO:+0200
TZNAME:CEST
DTSTART:20250330T010000
END:DAYLIGHT
BEGIN:STANDARD
TZOFFSETFROM:+0200
TZOFFSETTO:+0100
TZNAME:CET
DTSTART:20251026T010000
END:STANDARD
END:VTIMEZONE
BEGIN:VEVENT
DTSTART;TZID=Europe/Berlin:20250206T190000
DTEND;TZID=Europe/Berlin:20250206T220000
DTSTAMP:20260421T102947
CREATED:20241003T184234Z
LAST-MODIFIED:20250123T202411Z
UID:1579-1738868400-1738879200@aschaa.at
SUMMARY:Manfred Chromy Kontraklampfensolo
DESCRIPTION:Manfred Chromy \n19:00 Uhr
URL:https://aschaa.at/event/manfred-chromy-kontraklampfensolo/
END:VEVENT
BEGIN:VEVENT
DTSTART;TZID=Europe/Berlin:20250213T190000
DTEND;TZID=Europe/Berlin:20250213T220000
DTSTAMP:20260421T102947
CREATED:20241129T075547Z
LAST-MODIFIED:20250123T202544Z
UID:1641-1739473200-1739484000@aschaa.at
SUMMARY:Stanzi Hojsa
DESCRIPTION:Stanzi Hojsa \, Rudi Koschlu\, Tommy Hojsa \n 
URL:https://aschaa.at/event/stanzi-hojsa/
END:VEVENT
BEGIN:VEVENT
DTSTART;TZID=Europe/Berlin:20250215T190000
DTEND;TZID=Europe/Berlin:20250215T220000
DTSTAMP:20260421T102947
CREATED:20250108T075532Z
LAST-MODIFIED:20250108T075532Z
UID:1726-1739646000-1739656800@aschaa.at
SUMMARY:Duo '' Wird scho Wean''
DESCRIPTION:Wird scho Wean \n\nClaudia Bauer  GITARRE / GESANG\nKarin Diaz Ukulele Percussion Gesang
URL:https://aschaa.at/event/duo-wird-scho-wean/
END:VEVENT
BEGIN:VEVENT
DTSTART;TZID=Europe/Berlin:20250219T190000
DTEND;TZID=Europe/Berlin:20250219T213000
DTSTAMP:20260421T102947
CREATED:20241105T095639Z
LAST-MODIFIED:20250214T183620Z
UID:1601-1739991600-1740000600@aschaa.at
SUMMARY:Nussdorfer Singer Songwriter Abend mit
DESCRIPTION:Nussdorfer Singer Songwriter Abend mit \n– Planlos in Wien\n– Soni & Souls \n  \n 
URL:https://aschaa.at/event/weihnachtsspecial/
END:VEVENT
BEGIN:VEVENT
DTSTART;TZID=Europe/Berlin:20250222T180000
DTEND;TZID=Europe/Berlin:20250222T210000
DTSTAMP:20260421T102947
CREATED:20240530T183931Z
LAST-MODIFIED:20250131T093704Z
UID:1347-1740247200-1740258000@aschaa.at
SUMMARY:NIKI HOJSA TRIO
DESCRIPTION:NIKI HOJSA TRIO \nBlues und neue Wienerlieder\nBesetzung:\nNiki Hojsa: Gitarre\, Gesang\nTommy Hojsa: Klavier\, Gesang\nDominik Zelina: Gitarre \nDAS NUSSDORF \nNussdorfer Platz 8\n1190 Wien\n0665/656 610 85\nwww.aschaa.at\nFacebook/Niki Hojsa
URL:https://aschaa.at/event/niki-hojsa-trio-2/
LOCATION:DAS NUSSDORF\, Nussdorfer Platz 8\, 1190 Wien\, Austria
ORGANIZER;CN="DAS NUSSDORF":MAILTO:aref.ma81@gmail.com
END:VEVENT
END:VCALENDAR