BEGIN:VCALENDAR
VERSION:2.0
PRODID:-//Aschaa - ECPv6.9.0//NONSGML v1.0//EN
CALSCALE:GREGORIAN
METHOD:PUBLISH
X-WR-CALNAME:Aschaa
X-ORIGINAL-URL:https://aschaa.at
X-WR-CALDESC:Veranstaltungen für Aschaa
REFRESH-INTERVAL;VALUE=DURATION:PT1H
X-Robots-Tag:noindex
X-PUBLISHED-TTL:PT1H
BEGIN:VTIMEZONE
TZID:UTC
BEGIN:STANDARD
TZOFFSETFROM:+0000
TZOFFSETTO:+0000
TZNAME:UTC
DTSTART:20240101T000000
END:STANDARD
TZID:Europe/Berlin
BEGIN:DAYLIGHT
TZOFFSETFROM:+0100
TZOFFSETTO:+0200
TZNAME:CEST
DTSTART:20240331T010000
END:DAYLIGHT
BEGIN:STANDARD
TZOFFSETFROM:+0200
TZOFFSETTO:+0100
TZNAME:CET
DTSTART:20241027T010000
END:STANDARD
END:VTIMEZONE
BEGIN:VEVENT
DTSTART;TZID=UTC:20241213T190000
DTEND;TZID=UTC:20241213T220000
DTSTAMP:20260421T142401
CREATED:20240707T092353Z
LAST-MODIFIED:20241123T063711Z
UID:1377-1734116400-1734127200@aschaa.at
SUMMARY:Karl Zacek Quartett
DESCRIPTION:Karl zacek\, Julia Sternik\, Sergey Fadeev \nJeden Donnerstag und Freitag WIENERLIEDABEND \n19:00 – 22:00 \nReservierung: \n066565661085 \n066565137070 \nEmail: office@aschaa.at
URL:https://aschaa.at/event/wienerlied-abend-8/
LOCATION:DAS NUSSDORF\, Nussdorfer Platz 8\, 1190 Wien\, Austria
ORGANIZER;CN="DAS NUSSDORF":MAILTO:aref.ma81@gmail.com
END:VEVENT
BEGIN:VEVENT
DTSTART;TZID=Europe/Berlin:20241214T190000
DTEND;TZID=Europe/Berlin:20241214T220000
DTSTAMP:20260421T142401
CREATED:20241208T162938Z
LAST-MODIFIED:20241208T162938Z
UID:1670-1734202800-1734213600@aschaa.at
SUMMARY:Palme-Reich-Havlicek
DESCRIPTION:Palme-Reich-Havlicek\n“Palmina Waters”\n\n\nRenate Reich – Stimme\nThomas Palme\, Peter Havlicek – Gitarren \n\n“Ein gute Song kommt mit ganz wenig aus. \nMit Gitarre und Stimme beispielsweise. \nDer Rest ist frei erfunden.”
URL:https://aschaa.at/event/palme-reich-havlicek/
END:VEVENT
BEGIN:VEVENT
DTSTART;TZID=Europe/Berlin:20241231T190000
DTEND;TZID=Europe/Berlin:20241231T190000
DTSTAMP:20260421T142401
CREATED:20241123T065036Z
LAST-MODIFIED:20241129T171332Z
UID:1617-1735671600-1735671600@aschaa.at
SUMMARY:Silvester Party LIVE MUSIK
DESCRIPTION:Silvester Party mit Live Musik & Feuerwerk \n??? \nTEL: 066565661085 \n066565137070
URL:https://aschaa.at/event/silvester-party-live-musik/
END:VEVENT
END:VCALENDAR