BEGIN:VCALENDAR
VERSION:2.0
PRODID:-//Aschaa - ECPv6.9.0//NONSGML v1.0//EN
CALSCALE:GREGORIAN
METHOD:PUBLISH
X-WR-CALNAME:Aschaa
X-ORIGINAL-URL:https://aschaa.at
X-WR-CALDESC:Veranstaltungen für Aschaa
REFRESH-INTERVAL;VALUE=DURATION:PT1H
X-Robots-Tag:noindex
X-PUBLISHED-TTL:PT1H
BEGIN:VTIMEZONE
TZID:Europe/Berlin
BEGIN:DAYLIGHT
TZOFFSETFROM:+0100
TZOFFSETTO:+0200
TZNAME:CEST
DTSTART:20240331T010000
END:DAYLIGHT
BEGIN:STANDARD
TZOFFSETFROM:+0200
TZOFFSETTO:+0100
TZNAME:CET
DTSTART:20241027T010000
END:STANDARD
TZID:UTC
BEGIN:STANDARD
TZOFFSETFROM:+0000
TZOFFSETTO:+0000
TZNAME:UTC
DTSTART:20240101T000000
END:STANDARD
END:VTIMEZONE
BEGIN:VEVENT
DTSTART;TZID=Europe/Berlin:20240508T170000
DTEND;TZID=Europe/Berlin:20240508T220000
DTSTAMP:20260422T011419
CREATED:20240504T065939Z
LAST-MODIFIED:20240504T081549Z
UID:1294-1715187600-1715205600@aschaa.at
SUMMARY:Niki Hojsa Trio
DESCRIPTION:Niki Hojsa Trio \nBlues und Wiener Lied \n8.05.2024\nAb 17:00 Uhr
URL:https://aschaa.at/event/niki-hojsa-trio/
LOCATION:DAS NUSSDORF\, Nussdorfer Platz 8\, 1190 Wien\, Austria
ORGANIZER;CN="DAS NUSSDORF":MAILTO:aref.ma81@gmail.com
END:VEVENT
BEGIN:VEVENT
DTSTART;TZID=UTC:20240512T180000
DTEND;TZID=UTC:20240512T220000
DTSTAMP:20260422T011419
CREATED:20240402T200259Z
LAST-MODIFIED:20240511T170302Z
UID:1264-1715536800-1715551200@aschaa.at
SUMMARY:Schrammel und die Jazz New Melody Of Vienna
DESCRIPTION:Patricia Moreno – Gesang\nEmily Stewart – Violine\nBertl Mayer – Mundharmonika\nGerald Schuller Piano Akkordeon\nPeter Havlicek Kontragitarre \nDAS NUSSDORF\nSonntag 12.Mai 18:00 Uhr\nNussdorfer Platz 8\n1190 Wien\nReservierung:\n066565661085\noder aschaa.at \n		\n			\n					\n				\n				\n									\n					\n						\n									Termin ONLINE buchen
URL:https://aschaa.at/event/schrammel-und-die-jazz/
LOCATION:DAS NUSSDORF\, Nussdorfer Platz 8\, 1190 Wien\, Austria
ORGANIZER;CN="DAS NUSSDORF":MAILTO:aref.ma81@gmail.com
END:VEVENT
END:VCALENDAR